BEGIN:VCALENDAR
VERSION:2.0
PRODID:-//Hessentapas - ECPv6.15.19//NONSGML v1.0//EN
CALSCALE:GREGORIAN
METHOD:PUBLISH
X-ORIGINAL-URL:https://hessen-tapas.de
X-WR-CALDESC:Veranstaltungen für Hessentapas
REFRESH-INTERVAL;VALUE=DURATION:PT1H
X-Robots-Tag:noindex
X-PUBLISHED-TTL:PT1H
BEGIN:VTIMEZONE
TZID:UTC
BEGIN:STANDARD
TZOFFSETFROM:+0000
TZOFFSETTO:+0000
TZNAME:UTC
DTSTART:20240101T000000
END:STANDARD
END:VTIMEZONE
BEGIN:VEVENT
DTSTART;TZID=UTC:20250702T160000
DTEND;TZID=UTC:20250702T220000
DTSTAMP:20260424T153026
CREATED:20250324T160143Z
LAST-MODIFIED:20250324T160143Z
UID:1226-1751472000-1751493600@hessen-tapas.de
SUMMARY:Tapas Abend - Juli
DESCRIPTION:Mit leckeren Hessischen Tapas aus der Region \nVon 16 – 22 Uhr. Um Reservierung wird gebeten
URL:https://hessen-tapas.de/event/tapas-abend-juli/
ATTACH;FMTTYPE=image/jpeg:https://hessen-tapas.de/wp-content/uploads/2025/03/hessentpas-veranstaltung_instaslides_30-Oktober_Tapas-Abend_1080x1080_v2.jpg
END:VEVENT
END:VCALENDAR