BEGIN:VCALENDAR
VERSION:2.0
PRODID:-//Hessentapas - ECPv6.15.19//NONSGML v1.0//EN
CALSCALE:GREGORIAN
METHOD:PUBLISH
X-ORIGINAL-URL:https://hessen-tapas.de
X-WR-CALDESC:Veranstaltungen für Hessentapas
REFRESH-INTERVAL;VALUE=DURATION:PT1H
X-Robots-Tag:noindex
X-PUBLISHED-TTL:PT1H
BEGIN:VTIMEZONE
TZID:UTC
BEGIN:STANDARD
TZOFFSETFROM:+0000
TZOFFSETTO:+0000
TZNAME:UTC
DTSTART:20240101T000000
END:STANDARD
END:VTIMEZONE
BEGIN:VEVENT
DTSTART;TZID=UTC:20250729T160000
DTEND;TZID=UTC:20250730T220000
DTSTAMP:20260424T135259
CREATED:20250627T144930Z
LAST-MODIFIED:20250722T092401Z
UID:1305-1753804800-1753912800@hessen-tapas.de
SUMMARY:Tapas Abend
DESCRIPTION:!!!FÄLLT LEIDER AUS!!! \n  \nAm 29. Juli & 30. Juli haben wir TAPAS ABEND. \nKommt vorbei und genießt unsere hessischen Tapas Spezialitäten! \nWie immer für euch von 16 bis 22 Uhr geöffnet. – Um Reservierung wird gebeten. \n  \nInfo: Vom 31.7. bis 6.8. haben wir Urlaub!
URL:https://hessen-tapas.de/event/tapas-abend-2/
LOCATION:Hofwirtschaft Hessentapas\, Mühlhof 14\, Hasselroth\, 63594\, Deutschland
ATTACH;FMTTYPE=image/jpeg:https://hessen-tapas.de/wp-content/uploads/2025/07/faellt-aus_hessentpas-veranstaltung_instaslides_Juli-Tapas-Abend_1080x1080_v1_converted.jpg
END:VEVENT
END:VCALENDAR