BEGIN:VCALENDAR
VERSION:2.0
PRODID:-//Hessentapas - ECPv6.15.19//NONSGML v1.0//EN
CALSCALE:GREGORIAN
METHOD:PUBLISH
X-WR-CALNAME:Hessentapas
X-ORIGINAL-URL:https://hessen-tapas.de
X-WR-CALDESC:Veranstaltungen für Hessentapas
REFRESH-INTERVAL;VALUE=DURATION:PT1H
X-Robots-Tag:noindex
X-PUBLISHED-TTL:PT1H
BEGIN:VTIMEZONE
TZID:UTC
BEGIN:STANDARD
TZOFFSETFROM:+0000
TZOFFSETTO:+0000
TZNAME:UTC
DTSTART:20240101T000000
END:STANDARD
END:VTIMEZONE
BEGIN:VEVENT
DTSTART;TZID=UTC:20250906T173000
DTEND;TZID=UTC:20250906T213000
DTSTAMP:20260424T122859
CREATED:20250519T112429Z
LAST-MODIFIED:20250519T112429Z
UID:1281-1757179800-1757194200@hessen-tapas.de
SUMMARY:The 50 Fifties & Friends
DESCRIPTION:AKUSTIK GITARRE & VOCALS \nFür Stimmung wird gesorgt. Die Künstler sammeln in einen Hut. Bei Starkregen fallen die Konzerte aus!
URL:https://hessen-tapas.de/event/the-50-fifties-friends/
LOCATION:Hofwirtschaft Hessentapas\, Mühlhof 14\, Hasselroth\, 63594\, Deutschland
ATTACH;FMTTYPE=image/jpeg:https://hessen-tapas.de/wp-content/uploads/2025/05/hessentpas-veranstaltung_instaslides_06-09-25_1080x1080.jpg
END:VEVENT
END:VCALENDAR