BEGIN:VCALENDAR
VERSION:2.0
PRODID:-//Hessentapas - ECPv6.15.19//NONSGML v1.0//EN
CALSCALE:GREGORIAN
METHOD:PUBLISH
X-ORIGINAL-URL:https://hessen-tapas.de
X-WR-CALDESC:Veranstaltungen für Hessentapas
REFRESH-INTERVAL;VALUE=DURATION:PT1H
X-Robots-Tag:noindex
X-PUBLISHED-TTL:PT1H
BEGIN:VTIMEZONE
TZID:UTC
BEGIN:STANDARD
TZOFFSETFROM:+0000
TZOFFSETTO:+0000
TZNAME:UTC
DTSTART:20240101T000000
END:STANDARD
END:VTIMEZONE
BEGIN:VEVENT
DTSTART;TZID=UTC:20251231T120000
DTEND;TZID=UTC:20251231T160000
DTSTAMP:20260422T125743
CREATED:20251103T085753Z
LAST-MODIFIED:20251103T085753Z
UID:1404-1767182400-1767196800@hessen-tapas.de
SUMMARY:Jörg Bob Sanders – Frühschoppen an Silvester
DESCRIPTION:Erlebt einen stimmungsvollen Jahresausklang bei den Hutkonzerten bei Hessen Tapas mit Jörg Bob Sanders! \nDer charismatische Musiker begeistert mit einem vielseitigen Mix aus Rock\, Blues\, Pop\, Folk und Soul – von den 60ern bis heute. \nBei guter Musik\, leckerem Essen und entspanntem Ambiente wird der Silvestervormittag zu einem besonderen Erlebnis. \nWann: Silvester\, 12:00 Uhr bis 16:00 UhrEintritt: Der Künstler sammelt in seinen Hut.Hinweis: Bei Starkregen fällt das Konzert aus. \nKommt vorbei\, genießt gute Musik und startet mit bester Stimmung ins neue Jahr!
URL:https://hessen-tapas.de/event/joerg-bob-sanders-fruehschoppen-an-silvester/
LOCATION:Hofwirtschaft Hessentapas\, Mühlhof 14\, Hasselroth\, 63594\, Deutschland
ATTACH;FMTTYPE=image/jpeg:https://hessen-tapas.de/wp-content/uploads/2025/11/hessentpas-veranstaltung_instaslides_31-Dez_1080x1080.jpg
END:VEVENT
END:VCALENDAR