BEGIN:VCALENDAR
VERSION:2.0
PRODID:-//Hessentapas - ECPv6.15.19//NONSGML v1.0//EN
CALSCALE:GREGORIAN
METHOD:PUBLISH
X-WR-CALNAME:Hessentapas
X-ORIGINAL-URL:https://hessen-tapas.de
X-WR-CALDESC:Veranstaltungen für Hessentapas
REFRESH-INTERVAL;VALUE=DURATION:PT1H
X-Robots-Tag:noindex
X-PUBLISHED-TTL:PT1H
BEGIN:VTIMEZONE
TZID:UTC
BEGIN:STANDARD
TZOFFSETFROM:+0000
TZOFFSETTO:+0000
TZNAME:UTC
DTSTART:20240101T000000
END:STANDARD
END:VTIMEZONE
BEGIN:VEVENT
DTSTART;TZID=UTC:20250501T120000
DTEND;TZID=UTC:20250501T160000
DTSTAMP:20260424T164355
CREATED:20250304T124827Z
LAST-MODIFIED:20250304T124830Z
UID:1185-1746100800-1746115200@hessen-tapas.de
SUMMARY:Jörg Bob Sanders am 1. Mai
DESCRIPTION:Rock / Blues / Pop / Folk & Soul. 60′ bis Heute. \nBei Starkregen fallen die Konzerte aus! Der Künstler sammelt in seinen Hut.
URL:https://hessen-tapas.de/event/joerg-bob-sandersam-1-mai/
LOCATION:Hofwirtschaft Hessentapas\, Mühlhof 14\, Hasselroth\, 63594\, Deutschland
ATTACH;FMTTYPE=image/jpeg:https://hessen-tapas.de/wp-content/uploads/2025/03/hessentpas-veranstaltung_instaslides_1-Mai-2025_1080x1080.jpg
END:VEVENT
BEGIN:VEVENT
DTSTART;TZID=UTC:20250507T160000
DTEND;TZID=UTC:20250507T220000
DTSTAMP:20260424T164355
CREATED:20250324T160004Z
LAST-MODIFIED:20250324T160004Z
UID:1221-1746633600-1746655200@hessen-tapas.de
SUMMARY:Tapas Abend - Mai
DESCRIPTION:Mit leckeren Hessischen Tapas aus der Region \nVon 16 – 22 Uhr. Um Reservierung wird gebeten
URL:https://hessen-tapas.de/event/tapas-abend-mai/
ATTACH;FMTTYPE=image/jpeg:https://hessen-tapas.de/wp-content/uploads/2025/03/hessentpas-veranstaltung_instaslides_30-Oktober_Tapas-Abend_1080x1080_v2.jpg
END:VEVENT
BEGIN:VEVENT
DTSTART;TZID=UTC:20250529T120000
DTEND;TZID=UTC:20250529T160000
DTSTAMP:20260424T164355
CREATED:20250304T124944Z
LAST-MODIFIED:20250310T085842Z
UID:1189-1748520000-1748534400@hessen-tapas.de
SUMMARY:Reinhard Paul - Vatertag 29. Mai
DESCRIPTION:„Kesselbuntes“ – Für Stimmung wird gesorgt. \nDer Künstler sammelt in seinen Hut. Bei Starkregen fallen die Konzerte aus!
URL:https://hessen-tapas.de/event/reinhart-paul-vatertag-29-mai/
LOCATION:Hofwirtschaft Hessentapas\, Mühlhof 14\, Hasselroth\, 63594\, Deutschland
ATTACH;FMTTYPE=image/jpeg:https://hessen-tapas.de/wp-content/uploads/2025/03/hessentpas-veranstaltung_instaslides_29-Mai-2025_1080x1080_v1.jpg
END:VEVENT
END:VCALENDAR