BEGIN:VCALENDAR
VERSION:2.0
PRODID:-//Hessentapas - ECPv6.15.19//NONSGML v1.0//EN
CALSCALE:GREGORIAN
METHOD:PUBLISH
X-ORIGINAL-URL:https://hessen-tapas.de
X-WR-CALDESC:Veranstaltungen für Hessentapas
REFRESH-INTERVAL;VALUE=DURATION:PT1H
X-Robots-Tag:noindex
X-PUBLISHED-TTL:PT1H
BEGIN:VTIMEZONE
TZID:UTC
BEGIN:STANDARD
TZOFFSETFROM:+0000
TZOFFSETTO:+0000
TZNAME:UTC
DTSTART:20240101T000000
END:STANDARD
END:VTIMEZONE
BEGIN:VEVENT
DTSTART;TZID=UTC:20251001T160000
DTEND;TZID=UTC:20251001T220000
DTSTAMP:20260424T095517
CREATED:20250324T160525Z
LAST-MODIFIED:20250929T090043Z
UID:1232-1759334400-1759356000@hessen-tapas.de
SUMMARY:Wir haben geöffnet: 1. Oktober
DESCRIPTION:Am Mittwoch den 1. Oktober haben wir für euch geöffnet. \nKommt vorbei und genießt unsere Spezialitäten. – Wir freuen uns auf euch! \nVon 16:00 – 22:00 Uhr. Um Reservierung wird gebeten
URL:https://hessen-tapas.de/event/tapas-abend-oktober/
ATTACH;FMTTYPE=image/jpeg:https://hessen-tapas.de/wp-content/uploads/2025/09/hessentpas-veranstaltung_instaslides_geoeffnet_1080x1080_v1-1.jpg
END:VEVENT
BEGIN:VEVENT
DTSTART;TZID=UTC:20251003T120000
DTEND;TZID=UTC:20251003T180000
DTSTAMP:20260424T095517
CREATED:20250918T151114Z
LAST-MODIFIED:20250929T090728Z
UID:1333-1759492800-1759514400@hessen-tapas.de
SUMMARY:Salena - Frühschoppen am Tag der Deutschen Einheit - 3. Oktober
DESCRIPTION:Salena „Voice and Soul“ \n„One-Woman-Show“ von Bob Marley bis Tina Turner. \n3. Oktober\, 12:00 – 18:00 Uhr. – Küche schlißt um 17:00 Uhr.
URL:https://hessen-tapas.de/event/salena-fruehschoppen-am-tag-der-deutschen-einheit-3-oktober/
LOCATION:Hofwirtschaft Hessentapas\, Mühlhof 14\, Hasselroth\, 63594\, Deutschland
ATTACH;FMTTYPE=image/jpeg:https://hessen-tapas.de/wp-content/uploads/2025/09/hessentpas-veranstaltung_instaslides_3-Oktober_1080x1080-1.jpg
END:VEVENT
END:VCALENDAR