BEGIN:VCALENDAR
VERSION:2.0
PRODID:-//Hessentapas - ECPv6.15.19//NONSGML v1.0//EN
CALSCALE:GREGORIAN
METHOD:PUBLISH
X-WR-CALNAME:Hessentapas
X-ORIGINAL-URL:https://hessen-tapas.de
X-WR-CALDESC:Veranstaltungen für Hessentapas
REFRESH-INTERVAL;VALUE=DURATION:PT1H
X-Robots-Tag:noindex
X-PUBLISHED-TTL:PT1H
BEGIN:VTIMEZONE
TZID:UTC
BEGIN:STANDARD
TZOFFSETFROM:+0000
TZOFFSETTO:+0000
TZNAME:UTC
DTSTART:20240101T000000
END:STANDARD
END:VTIMEZONE
BEGIN:VEVENT
DTSTART;VALUE=DATE:20251201
DTEND;VALUE=DATE:20251224
DTSTAMP:20260422T125718
CREATED:20251013T144940Z
LAST-MODIFIED:20251013T144940Z
UID:1384-1764547200-1766534399@hessen-tapas.de
SUMMARY:Weihnachtsfeier bei HessenTapas
DESCRIPTION:Die festliche Jahreszeit rückt näher – und damit auch die Suche nach dem passenden Ort für eine gemütliche Weihnachtsfeier.  \nWie wäre es mit einem stimmungsvollen Abend in der Hofwirtschaft Hessentapas? \n  \nUnsere beheizten Blockhütten sorgen für eine warme\, urige Atmosphäre – ideal für Firmenfeiern\, Freundeskreise oder Familienrunden. Ob draußen am Feuer oder drinnen im gemütlichen Hüttenzauber – bei uns wird es garantiert festlich und entspannt. \nFür das leibliche Wohl sorgt selbstverständlich Hessentapas. Mit einer Auswahl an hessischen Spezialitäten und winterlichen Leckereien\, die Herz und Magen gleichermaßen erfreuen. \n  \nJetzt anfragen und Ihren Wunschtermin sichern! – Per Telefon: 0178 – 608 20 03 oder Mail: herbertsmeisterstueck@web.com
URL:https://hessen-tapas.de/event/weihnachtsfeier-bei-hessentapas/
LOCATION:Hofwirtschaft Hessentapas\, Mühlhof 14\, Hasselroth\, 63594\, Deutschland
ATTACH;FMTTYPE=image/jpeg:https://hessen-tapas.de/wp-content/uploads/2025/10/hessentpas-veranstaltung_instaslides_Weihnachtsfeier-gruen.jpg
END:VEVENT
BEGIN:VEVENT
DTSTART;TZID=UTC:20251214T150000
DTEND;TZID=UTC:20251214T210000
DTSTAMP:20260422T125718
CREATED:20251202T103957Z
LAST-MODIFIED:20251205T094653Z
UID:1427-1765724400-1765746000@hessen-tapas.de
SUMMARY:Weihnachtsstimmung bei Hessen Tapas
DESCRIPTION:✨ Weihnachtsstimmung bei HessenTapas! ✨Parallel zum Gondrother Weihnachtsmarkt öffnen wir am 14. Dezember (2. Advent) unsere Hofwirtschaft für euch – von 15:00 bis 21:00 Uhr! \nKommt vorbei\, wärmt euch an unseren Feuertonnen und genießt heiße Getränke in gemütlicher Atmosphäre. \nMühlhof 14\, 63594 Hasselroth✨Wir freuen uns auf euch! ✨
URL:https://hessen-tapas.de/event/weihnachtsstimmung-bei-hessen-tapas/
LOCATION:Hofwirtschaft Hessentapas\, Mühlhof 14\, Hasselroth\, 63594\, Deutschland
ATTACH;FMTTYPE=image/jpeg:https://hessen-tapas.de/wp-content/uploads/2025/12/hessentpas-veranstaltung_instaslides_14-Dezember-2025_1080x1080_v1.jpg
END:VEVENT
BEGIN:VEVENT
DTSTART;TZID=UTC:20251220T170000
DTEND;TZID=UTC:20251220T210000
DTSTAMP:20260422T125718
CREATED:20251103T090237Z
LAST-MODIFIED:20251208T123933Z
UID:1407-1766250000-1766264400@hessen-tapas.de
SUMMARY:Reinhard Paul – Weihnachtskonzert bei Hessen Tapas
DESCRIPTION:Am 20. Dezember sorgt Reinhard Paul im Rahmen der Hutkonzerte bei Hessen Tapas für festliche Stimmung! \nUnter dem Motto „Kesselbuntes“ erwartet euch ein unterhaltsamer Abend voller Musik\, Humor und guter Laune – perfekt\, um sich auf die Weihnachtszeit einzustimmen. \nWann: 20. Dezember\, 17:00 Uhr bis 21:00 UhrEintritt: Der Künstler sammelt in seinen Hut.Hinweis: Bei Starkregen fällt das Konzert aus. \nLasst euch dieses stimmungsvolle Weihnachtskonzert nicht entgehen und genießt einen Abend voller Musik und Emotionen!
URL:https://hessen-tapas.de/event/reinhard-paul-weihnachtskonzert-bei-hessen-tapas/
LOCATION:Hofwirtschaft Hessentapas\, Mühlhof 14\, Hasselroth\, 63594\, Deutschland
ATTACH;FMTTYPE=image/jpeg:https://hessen-tapas.de/wp-content/uploads/2025/12/hessentpas-veranstaltung_instaslides_20-Dez_1080x1080_v1.jpg
END:VEVENT
BEGIN:VEVENT
DTSTART;TZID=UTC:20251231T120000
DTEND;TZID=UTC:20251231T160000
DTSTAMP:20260422T125718
CREATED:20251103T085753Z
LAST-MODIFIED:20251103T085753Z
UID:1404-1767182400-1767196800@hessen-tapas.de
SUMMARY:Jörg Bob Sanders – Frühschoppen an Silvester
DESCRIPTION:Erlebt einen stimmungsvollen Jahresausklang bei den Hutkonzerten bei Hessen Tapas mit Jörg Bob Sanders! \nDer charismatische Musiker begeistert mit einem vielseitigen Mix aus Rock\, Blues\, Pop\, Folk und Soul – von den 60ern bis heute. \nBei guter Musik\, leckerem Essen und entspanntem Ambiente wird der Silvestervormittag zu einem besonderen Erlebnis. \nWann: Silvester\, 12:00 Uhr bis 16:00 UhrEintritt: Der Künstler sammelt in seinen Hut.Hinweis: Bei Starkregen fällt das Konzert aus. \nKommt vorbei\, genießt gute Musik und startet mit bester Stimmung ins neue Jahr!
URL:https://hessen-tapas.de/event/joerg-bob-sanders-fruehschoppen-an-silvester/
LOCATION:Hofwirtschaft Hessentapas\, Mühlhof 14\, Hasselroth\, 63594\, Deutschland
ATTACH;FMTTYPE=image/jpeg:https://hessen-tapas.de/wp-content/uploads/2025/11/hessentpas-veranstaltung_instaslides_31-Dez_1080x1080.jpg
END:VEVENT
END:VCALENDAR